BEGIN:VCALENDAR
VERSION:2.0
PRODID:-//Library Market//iCal Export//EN
BEGIN:VEVENT
SUMMARY:Pokemon Club
UID:15394
DTSTAMP:20260421T234400Z
DTSTART:20260716T173000Z
DTEND:20260716T190000Z
LOCATION:13105 Schavey Rd, DeWitt, MI 48820, United States
ROOM: Woodruff Annex (A)
DESCRIPTION:Calling All Pokémon Fans! ✨ Bring your own cards to trade,
  battle, or just show off your collection!Whether you’re a seasoned Trai
 ner or just starting your Pokémon journey, everyone’s welcome. Don’t 
 miss out!
URL:https://www.dewittlibrary.org/event/pokemon-club-15394
END:VEVENT
END:VCALENDAR
