BEGIN:VCALENDAR
VERSION:2.0
PRODID:-//Library Market//iCal Export//EN
BEGIN:VEVENT
SUMMARY:Storytime at Riverside Park
UID:15363
DTSTAMP:20260420T035100Z
DTSTART:20260709T143000Z
DTEND:20260709T151500Z
LOCATION:Riverside Park, 405 S. Bridge St., DeWitt, MI 48820, United State
 s
ROOM: Storytime at Riverside Park
DESCRIPTION:Join us for our summertime Pop-Up Storytime at Riverside Park 
 in downtown DeWitt! Enjoy stories, rhymes, and songs in the beautiful outd
 oors.Program will be canceled in the event of inclement weather.
URL:https://www.dewittlibrary.org/event/storytime-riverside-park-15363
END:VEVENT
END:VCALENDAR
