BEGIN:VCALENDAR
VERSION:2.0
PRODID:-//Library Market//iCal Export//EN
BEGIN:VEVENT
SUMMARY:What&#039;s the Buzz?
UID:15353
DTSTAMP:20260420T001300Z
DTSTART:20260624T190000Z
DTEND:20260624T200000Z
LOCATION:13105 Schavey Rd, DeWitt, MI 48820, United States
ROOM: Woodruff Annex (A)
DESCRIPTION:Celebrate National Pollinator Week with this fun program for e
 lementary-age kids! Learn all about bees, how they pollinate plants, and h
 ow they work together in the hive to make honey.  Local expert Rick Schra
 mm will be sharing his knowledge of these remarkable creatures. 
URL:https://www.dewittlibrary.org/event/whats-buzz-15353
END:VEVENT
END:VCALENDAR
