BEGIN:VCALENDAR
VERSION:2.0
PRODID:-//Library Market//iCal Export//EN
BEGIN:VEVENT
SUMMARY:Gentle Yoga
UID:15099
DTSTAMP:20260421T132600Z
DTSTART:20260610T140000Z
DTEND:20260610T150000Z
LOCATION:13105 Schavey Rd, DeWitt, MI 48820, United States
ROOM: Woodruff Annex (A+B)
DESCRIPTION:This three-week yoga series is designed to help you slow down,
  reconnect, and move with ease. Perfect for beginners or anyone looking to
  release tension, improve flexibility, and cultivate a sense of calm in a 
 welcoming, low-pressure environment. Led by certified instructor Jen Cousi
 neau of JenCYoga.
URL:https://www.dewittlibrary.org/event/fundamentals-yoga-15099
END:VEVENT
END:VCALENDAR
