BEGIN:VCALENDAR
VERSION:2.0
PRODID:-//Library Market//iCal Export//EN
BEGIN:VEVENT
SUMMARY:Chapter Chat
UID:14962
DTSTAMP:20260420T001200Z
DTSTART:20260622T170000Z
DTEND:20260622T180000Z
LOCATION:13105 Schavey Rd, DeWitt, MI 48820, United States
ROOM: Woodruff Annex (A)
DESCRIPTION:Join us for a fun and relaxed book club where kids can share w
 hat they’ve been reading, discover new favorites, and enjoy games and ac
 tivities inspired by books. A great way to connect with other readers and 
 build a love of reading!
URL:https://www.dewittlibrary.org/event/chapter-chat-14962
END:VEVENT
END:VCALENDAR
