BEGIN:VCALENDAR
VERSION:2.0
PRODID:-//Library Market//iCal Export//EN
BEGIN:VEVENT
SUMMARY:Creating Connections through Rhythm: Drum Circle with Michele
UID:14319
DTSTAMP:20260420T020400Z
DTSTART:20260715T220000Z
DTEND:20260715T230000Z
LOCATION:Riverside Park Pavilion, 405 S. Bridge St., DeWitt, MI 48820, Uni
 ted States
ROOM: Creating Connections through Rhythm: Drum Circle with Michele
DESCRIPTION:This interactive, beginner-friendly drum circle invites adults
  and teens to come together and experience the joy of rhythm, music, and c
 onnection in a warm and welcoming space. Michele will provide percussion i
 nstruments for up to 20 participants, or you can bring your own small drum
  or shaker if you have one. Together we&#039;ll build community, reduce st
 ress, and lift spirits through a fun and joyful drumming session. No expe
 rience is needed to attend. Teens 16 and under are welcome to participate 
 with a parent or guardian.Michele Leonard is a local musician and communit
 y drum circle facilitator. She leads the Great Lansing Area Drummers weekl
 y drum circle, now in its sixth year. 
URL:https://www.dewittlibrary.org/event/creating-connections-through-rhyth
 m-drum-circle-michele-14319
END:VEVENT
END:VCALENDAR
