BEGIN:VCALENDAR
VERSION:2.0
PRODID:-//Library Market//iCal Export//EN
BEGIN:VEVENT
SUMMARY:Creating Connections through Rhythm: Drum Circle with Michele
UID:14318
DTSTAMP:20260420T001200Z
DTSTART:20260624T220000Z
DTEND:20260624T230000Z
LOCATION:Riverside Park Pavilion, 405 S. Bridge St., DeWitt, MI 48820, Uni
 ted States
ROOM: Creating Connections through Rhythm: Drum Circle with Michele
DESCRIPTION:This interactive, beginner-friendly drum circle at the Riversi
 de Park Pavilion invites adults and teens to come together and experience 
 the joy of rhythm, music, and connection in a warm and welcoming space. Mi
 chele will provide percussion instruments for up to 20 participants, or yo
 u can bring your own small drum or shaker if you have one. Together we&#03
 9;ll build community, reduce stress, and lift spirits through a fun and jo
 yful drumming session. No experience is needed to attend. Teens 16 and un
 der are welcome to participate with a parent or guardian.Michele Leonard i
 s a local musician and community drum circle facilitator. She leads the Gr
 eat Lansing Area Drummers weekly drum circle, now in its sixth year. 
URL:https://www.dewittlibrary.org/event/creating-connections-through-rhyth
 m-drum-circle-michele-14318
END:VEVENT
END:VCALENDAR
