BEGIN:VCALENDAR
VERSION:2.0
PRODID:-//Library Market//iCal Export//EN
BEGIN:VEVENT
SUMMARY:NERF Mobile Games
UID:14072
DTSTAMP:20260422T031000Z
DTSTART:20260803T190000Z
DTEND:20260803T200000Z
LOCATION:DeWitt Library Property, 1640 DeWitt Rd, DeWitt, MI 48820, United
  States
ROOM: NERF Mobile Games
DESCRIPTION:Players will run, dodge, and dive as they try to out-wit and o
 ut-blast the competition during NERF Mobile Games!  
URL:https://www.dewittlibrary.org/event/nerf-mobile-games-14072
END:VEVENT
END:VCALENDAR
