BEGIN:VCALENDAR
VERSION:2.0
PRODID:-//Library Market//iCal Export//EN
BEGIN:VEVENT
SUMMARY:All-Ages Summer Reading Challenge Kickoff
UID:13817
DTSTAMP:20260419T185600Z
DTSTART:20260606T150000Z
DTEND:20260606T170000Z
LOCATION:DeWitt, MI 48820, United States
ROOM: All-Ages Summer Reading Challenge Kickoff
DESCRIPTION:We invite kids, teens, and adults to take on the 2026 Summer R
 eading Challenge: Unearth a Story.Thank you to our Summer Reading Sponsors
 : 
URL:https://www.dewittlibrary.org/event/all-ages-summer-reading-challenge-
 13817
END:VEVENT
END:VCALENDAR
